BEGIN:VCALENDAR
VERSION:2.0
PRODID:spatie/icalendar-generator
DESCRIPTION:Veranstaltungen von HOG Zurich Chapter Switzerland
X-WR-CALDESC:Veranstaltungen von HOG Zurich Chapter Switzerland
REFRESH-INTERVAL;VALUE=DURATION:PT1440M
X-PUBLISHED-TTL:PT1440M
BEGIN:VTIMEZONE
TZID:Europe/Zurich
BEGIN:STANDARD
DTSTART:20251026T030000Z
TZOFFSETFROM:+0200
TZOFFSETTO:+0100
END:STANDARD
BEGIN:DAYLIGHT
DTSTART:20260329T020000Z
TZOFFSETFROM:+0100
TZOFFSETTO:+0200
END:DAYLIGHT
BEGIN:STANDARD
DTSTART:20261025T030000Z
TZOFFSETFROM:+0200
TZOFFSETTO:+0100
END:STANDARD
END:VTIMEZONE
BEGIN:VTIMEZONE
TZID:UTC
BEGIN:STANDARD
DTSTART:20250726T124316Z
TZOFFSETFROM:+0000
TZOFFSETTO:+0000
END:STANDARD
END:VTIMEZONE
BEGIN:VEVENT
UID:203-69
DTSTAMP:20260422T124316Z
SUMMARY:34. Love Ride
LOCATION:Harley-Davidson Mönchaltorf Mettlenbachstrasse 3  Mönchaltorf  8
 617
ORGANIZER;CN=webmaster_hogzh:MAILTO:webmaster.hogzh@gmail.com
DTSTART;TZID=Europe/Zurich:20260503T073000
DTEND;TZID=Europe/Zurich:20260503T180000
X-ALT-DESC;FMTTYPE=TEXT/HTML:<p>Die 34. Ausgabe des Love Ride Switzerland f
 indet am Sonntag\, 3. Mai 2026\, wiederum auf dem Flugplatzgelände Düben
 dorf ZH statt. Wir zählen auf Euch!</p>\n
CATEGORIES:Ausfahrt
URL;VALUE=URI:https://hogzh.ch/mc-events/34-love-ride/
METHOD:PUBLISH
END:VEVENT
END:VCALENDAR