BEGIN:VCALENDAR
VERSION:2.0
PRODID:spatie/icalendar-generator
DESCRIPTION:Veranstaltungen von HOG Zurich Chapter Switzerland
X-WR-CALDESC:Veranstaltungen von HOG Zurich Chapter Switzerland
REFRESH-INTERVAL;VALUE=DURATION:PT1440M
X-PUBLISHED-TTL:PT1440M
BEGIN:VTIMEZONE
TZID:Europe/Zurich
BEGIN:STANDARD
DTSTART:20251026T030000Z
TZOFFSETFROM:+0200
TZOFFSETTO:+0100
END:STANDARD
BEGIN:DAYLIGHT
DTSTART:20260329T020000Z
TZOFFSETFROM:+0100
TZOFFSETTO:+0200
END:DAYLIGHT
END:VTIMEZONE
BEGIN:VTIMEZONE
TZID:UTC
BEGIN:STANDARD
DTSTART:20250726T161520Z
TZOFFSETFROM:+0000
TZOFFSETTO:+0000
END:STANDARD
END:VTIMEZONE
BEGIN:VEVENT
UID:238-60
DTSTAMP:20260422T161520Z
SUMMARY:Höck
LOCATION:Gasthof Löwen Usterstrasse 7  Mönchaltdorf  8617
ORGANIZER;CN=webmaster_hogzh:MAILTO:webmaster.hogzh@gmail.com
RRULE:FREQ=MONTHLY;BYDAY=2FR;UNTIL=20270115T000000Z
DTSTART;TZID=Europe/Zurich:20260313T190000
DTEND;TZID=Europe/Zurich:20260313T230000
X-ALT-DESC;FMTTYPE=TEXT/HTML:<p>Jeden 2. Freitag im Monat treffen wir uns z
 um gemeinsamen Gedankenaustausch\, Benzingesprächen und gemütlichen Zusa
 mmensein im Restaurant Pfannenstiel\, Meilen.</p>\n
CATEGORIES:Höck
URL;VALUE=URI:https://hogzh.ch/mc-events/hoeck-4/?mc_id=238
METHOD:PUBLISH
END:VEVENT
END:VCALENDAR