BEGIN:VCALENDAR
VERSION:2.0
PRODID:spatie/icalendar-generator
DESCRIPTION:Veranstaltungen von HOG Zurich Chapter Switzerland
X-WR-CALDESC:Veranstaltungen von HOG Zurich Chapter Switzerland
REFRESH-INTERVAL;VALUE=DURATION:PT1440M
X-PUBLISHED-TTL:PT1440M
BEGIN:VTIMEZONE
TZID:Europe/Zurich
BEGIN:STANDARD
DTSTART:20251026T030000Z
TZOFFSETFROM:+0200
TZOFFSETTO:+0100
END:STANDARD
BEGIN:DAYLIGHT
DTSTART:20260329T020000Z
TZOFFSETFROM:+0100
TZOFFSETTO:+0200
END:DAYLIGHT
BEGIN:STANDARD
DTSTART:20261025T030000Z
TZOFFSETFROM:+0200
TZOFFSETTO:+0100
END:STANDARD
END:VTIMEZONE
BEGIN:VTIMEZONE
TZID:UTC
BEGIN:STANDARD
DTSTART:20250726T124526Z
TZOFFSETFROM:+0000
TZOFFSETTO:+0000
END:STANDARD
END:VTIMEZONE
BEGIN:VEVENT
UID:175-64
DTSTAMP:20260422T124526Z
SUMMARY:Friday Ride
LOCATION:Harley-Davidson Mönchaltorf Mettlenbachstrasse 3  Mönchaltorf  8
 617
ORGANIZER;CN=webmaster_hogzh:MAILTO:webmaster.hogzh@gmail.com
RRULE:FREQ=WEEKLY;UNTIL=20261009T000000Z
DTSTART;TZID=Europe/Zurich:20260424T180000
DTEND;TZID=Europe/Zurich:20260424T220000
X-ALT-DESC;FMTTYPE=TEXT/HTML:<p>Der Friday Ride ist eine wöchentliche Ausf
 ahrt\, die von April bis Oktober stattfindet und Fahrradbegeisterte zusamm
 enbringt\, um gemeinsam die Umgebung zu erkunden und das Wochenende einzul
 äuten.</p>\n
CATEGORIES:Friday Ride
URL;VALUE=URI:https://hogzh.ch/mc-events/friday-ride-4/?mc_id=175
METHOD:PUBLISH
END:VEVENT
END:VCALENDAR